BEGIN:VCALENDAR
PRODID:-//kirchenweb.ch gmbh//veranstaltungsausgabe v2.0//DE
VERSION:2.0
METHOD:PUBLISH
BEGIN:VEVENT
DTSTART:20221211T160000Z
DTEND:20221211T170000Z
LOCATION:Kirche\, \,  Buchberg-Rüdlingen
TRANSP:OPAQUE
SEQUENCE:0
UID:128024-veranstaltung@ref-sh.ch
DTSTAMP:20221203T085151Z
DESCRIPTION:Advent und Weihnachten haben für viele Menschen ihren
  besonderen Zauber. \n\nErinnerungen und Sehnsüchte werden geweckt: Wie
  es war\, damals als Kind\, in der Stube oder Wohnküche\, die leuchtenden
  Lichter in der Dunkelheit der Nacht\, Musik und Lieder – gute
  Erinnerungen und Erfahrungen\, die wir gerne so auch heute wieder leben
  und unseren Kindern und Enkeln weitergeben. Viele Familien haben da ihre
  eigenen Traditionen.\n\nAdvent ist die Einstimmung auf Weihnachten\, die
  Zeit der Vorbereitung auf das Christfest.\nDie Kinder sind chribelig auf
  die Geschenke\, die Erwachsenen oft gestresst\, weil so Manches in 20
  Tagen erledigt werden muss. \n\nImmer mal eine kurze Auszeit\, eine
  Anregung für die Vorbereitung auf das\, was Weihnachten auch ist: Dem
  Christkind den Weg zu bereiten\, den Weg zu uns zu weisen\, Tag um Tag
  – bis zum Fest an Weihnachten\, wo sich mindestens für einen Moment
  Himmel und Erde berühren.\n\nWir laden Sie ein zum „Adventsspecial“
  am 11. Dezember\, 17.00 Uhr\, Kirche Buchberg-Rüdlingen\, eine Feier im
  Advent für Klein und Gross.\n\n\nKontakt: Barbara Erdmann\n\nWeitere
  Infos: https://www.ref-sh.ch/veranstaltung/128024
SUMMARY:Adventsspecial
PRIORITY:5
X-MICROSOFT-CDO-IMPORTANCE:1
CLASS:PUBLIC
END:VEVENT
END:VCALENDAR
