BEGIN:VCALENDAR
PRODID:-//kirchenweb.ch gmbh//veranstaltungsausgabe v2.0//DE
VERSION:2.0
METHOD:PUBLISH
BEGIN:VEVENT
DTSTART:20221207T180000Z
DTEND:20221207T200000Z
LOCATION:KGH Hofmeisterhaus\, Eichenstrasse 37\, 8200 Schaffhausen
TRANSP:OPAQUE
SEQUENCE:0
UID:127634-veranstaltung@ref-sh.ch
DTSTAMP:20221108T135204Z
DESCRIPTION:Kontakt: Hans-Jörg Ganz\n\nWeitere Infos:
  https://www.ref-sh.ch/veranstaltung/127634
SUMMARY:Kurzprobe & Jahresabschluss
PRIORITY:5
X-MICROSOFT-CDO-IMPORTANCE:1
CLASS:PUBLIC
END:VEVENT
END:VCALENDAR
