BEGIN:VCALENDAR
PRODID:-//kirchenweb.ch gmbh//veranstaltungsausgabe v2.0//DE
VERSION:2.0
METHOD:PUBLISH
BEGIN:VEVENT
DTSTART:20221204T090000Z
DTEND:20221204T100000Z
LOCATION:Kirche Herblingen\, Chileweg\, 8207 Schaffhausen
TRANSP:OPAQUE
SEQUENCE:0
UID:127424-veranstaltung@ref-sh.ch
DTSTAMP:20221118T132023Z
DESCRIPTION:Sing mit! Offene Mitsinggelegenheit (3 offene Proben und
  Gottesdienst)\n8.45 Uhr Einsingen und Vorprobe\n\nKontakt: Pfrn. Dorothe
  Felix\nHansjörg Ganz\n\nWeitere Infos:
  https://www.ref-sh.ch/veranstaltung/127424
SUMMARY:Gottesdienst mit La Capella
PRIORITY:5
X-MICROSOFT-CDO-IMPORTANCE:1
CLASS:PUBLIC
END:VEVENT
END:VCALENDAR
