BEGIN:VCALENDAR
PRODID:-//kirchenweb.ch gmbh//veranstaltungsausgabe v2.0//DE
VERSION:2.0
METHOD:PUBLISH
BEGIN:VEVENT
DTSTART:20221120T091500Z
DTEND:20221120T101500Z
LOCATION:Waldfriedhofkapelle\, Rheinhardstrasse\, 8200 Schaffhausen
TRANSP:OPAQUE
SEQUENCE:0
UID:127178-veranstaltung@ref-sh.ch
DTSTAMP:20221117T154841Z
DESCRIPTION:"Verwandlung" - Gedanken zu Offenbarung 21\,5a\n
 \nGemeindelieder:\nRG 361\,1+4+5 ("O Heiland\, reiss die Himmel auf")\nRG
  680\,1-6 ("Befiehl du deine Wege")\nRG 462 ("Christ ist erstanden")\nRG
  680\,12 ("Mach Ende\, o Herr\, mach Ende")\n\nNathalie Blaser\, Fagott
 \nAndreas Jud\, Orgel\nPfr. Andreas Heieck\n\nKontakt: Pfr. Dr. phil.
  Andreas Heieck\n\nWeitere Infos:
  https://www.ref-sh.ch/veranstaltung/127178
SUMMARY:Gottesdienst zum Ewigkeitssonntag mit Verstorbenengedenken
PRIORITY:5
X-MICROSOFT-CDO-IMPORTANCE:1
CLASS:PUBLIC
END:VEVENT
END:VCALENDAR
