BEGIN:VCALENDAR
PRODID:-//kirchenweb.ch gmbh//veranstaltungsausgabe v2.0//DE
VERSION:2.0
METHOD:PUBLISH
BEGIN:VEVENT
DTSTART:20221112T181500Z
DTEND:20221112T191500Z
LOCATION:St.Johann\, Kirchhofplatz\, 8200 Schaffhausen
TRANSP:OPAQUE
SEQUENCE:0
UID:127116-veranstaltung@ref-sh.ch
DTSTAMP:20221108T072346Z
DESCRIPTION:"Die Welt\, wie der Vater sie wahrnahm" – Ausschnitte aus
  der Erzählung "Der alte König in seinem Exil" von Arno Geiger (*1968)
  über seinen demenzkranken Vater \n\nMusik: \nMonique Anja Baumann\,
 \nMartin Wenner\, \nRoland Müller\, \nTraversflöten\nSimon Burr\,
  Violoncello \nAndreas Jud\, Orgel\n\nLesungen: Pfr. Andreas Heieck\n
 \nKontakt: Andreas Heieck\n\nWeitere Infos:
  https://www.ref-sh.ch/veranstaltung/127116
SUMMARY:Soirée im St. Johann
PRIORITY:5
X-MICROSOFT-CDO-IMPORTANCE:1
CLASS:PUBLIC
END:VEVENT
END:VCALENDAR
