BEGIN:VCALENDAR
PRODID:-//kirchenweb.ch gmbh//veranstaltungsausgabe v2.0//DE
VERSION:2.0
METHOD:PUBLISH
BEGIN:VEVENT
DTSTART:20221106T091500Z
DTEND:20221106T101500Z
LOCATION:St.Johann\, Kirchhofplatz\, 8200 Schaffhausen
TRANSP:OPAQUE
SEQUENCE:0
UID:127112-veranstaltung@ref-sh.ch
DTSTAMP:20221103T085926Z
DESCRIPTION:"Mit Leib und Seele - und Haut und Haaren" Kirche in 2022
 \nMitwirkung: La Capella\, Apéro\n
 \nhttps://zuerst.proinfirmis.ch/pois/detail/22005\n\nKontakt: Pfarrer
  Wolfram Kötter\n\nWeitere Infos:
  https://www.ref-sh.ch/veranstaltung/127112
SUMMARY:Gesamtstädtischer Gottesdienst zum Reformationssonntag
PRIORITY:5
X-MICROSOFT-CDO-IMPORTANCE:1
CLASS:PUBLIC
END:VEVENT
END:VCALENDAR
