BEGIN:VCALENDAR
PRODID:-//kirchenweb.ch gmbh//veranstaltungsausgabe v2.0//DE
VERSION:2.0
METHOD:PUBLISH
BEGIN:VEVENT
DTSTART:20221117T090000Z
DTEND:20221117T100000Z
LOCATION:Altersheim Schönbühl\, Ungarbühlstr.4\, 8200 Schaffhausen
TRANSP:OPAQUE
SEQUENCE:0
UID:126495-veranstaltung@ref-sh.ch
DTSTAMP:20221213T061546Z
DESCRIPTION:Kontakt: Pfrn. Beatrice Heieck-Vögelin\n\nWeitere Infos:
  https://www.ref-sh.ch/veranstaltung/126495
SUMMARY:Seniorengottesdienst
PRIORITY:5
X-MICROSOFT-CDO-IMPORTANCE:1
CLASS:PUBLIC
END:VEVENT
END:VCALENDAR
