BEGIN:VCALENDAR
PRODID:-//kirchenweb.ch gmbh//veranstaltungsausgabe v2.0//DE
VERSION:2.0
METHOD:PUBLISH
BEGIN:VEVENT
DTSTART:20221224T153000Z
DTEND:20221224T163000Z
LOCATION:Kirche\, \,  Buchberg-Rüdlingen
TRANSP:OPAQUE
SEQUENCE:0
UID:124750-veranstaltung@ref-sh.ch
DTSTAMP:20221220T080645Z
DESCRIPTION:D Chilemuus erzählt die Weihnachtsgeschichte.\n\nBitte
  Laterne oder Windlicht mitnehmen\, damit das Licht von der Krippe nach
  Hause getragen werden kann.\n\nKontakt: Barbara Erdmann\n\nWeitere Infos:
  https://www.ref-sh.ch/veranstaltung/124750
SUMMARY:Licht holen an der Krippe: Weihnachtsfeier für die Familie
PRIORITY:5
X-MICROSOFT-CDO-IMPORTANCE:1
CLASS:PUBLIC
END:VEVENT
END:VCALENDAR
