BEGIN:VCALENDAR
PRODID:-//kirchenweb.ch gmbh//veranstaltungsausgabe v2.0//DE
VERSION:2.0
METHOD:PUBLISH
BEGIN:VEVENT
DTSTART:20220416T190000Z
DTEND:20220416T200000Z
LOCATION:Kirche\, \,  Buchberg-Rüdlingen
TRANSP:OPAQUE
SEQUENCE:0
UID:124749-veranstaltung@ref-sh.ch
DTSTAMP:20220412T164344Z
DESCRIPTION:Beginn der Feier auf dem Friedhof beim Osterfeuer.\n
 \n50-52 Josef\, ein Mann aus Arimathäa\, einer Stadt in Judäa\, ging zu
  Pilatus und bat ihn\, den Leichnam von Jesus begraben zu dürfen. Er war
  ein Mitglied des Hohen Rates und ein guter Mensch\, der nach Gottes
  Willen lebte und auf das Kommen von Gottes Reich wartete. Josef hatte
  nicht zugestimmt\, als der Hohe Rat Jesus zum Tode verurteilt hatte\, und
  war mit ihrem Vorgehen nicht einverstanden. 53 Er nahm Jesus vom Kreuz\,
  wickelte ihn in ein feines Leinentuch und legte ihn in eine Grabkammer\,
  die man in einen Felsen gehauen hatte und in der vorher noch niemand
  begraben worden war. 54 Das alles geschah am späten Freitagnachmittag\,
  unmittelbar vor Beginn des Sabbats.\n\n55 Josef wurde von Frauen
  begleitet\, die mit Jesus aus Galiläa gekommen waren. Sie sahen das Grab
  und beobachteten\, wie man den Toten hineinlegte. 56 Dann kehrten sie in
  die Stadt zurück und bereiteten dort wohlriechende Öle und Salben für
  die Einbalsamierung vor. Doch den Sabbat hielten sie als Ruhetag ein\, so
  wie es das jüdische Gesetz vorschreibt.\nLukas-Evangelium 23\,50-56\n
 \nKontakt: Beat Frefel\, Barbara Erdmann\n\nWeitere Infos:
  https://www.ref-sh.ch/veranstaltung/124749
SUMMARY:Osternacht mit Beginn auf dem Friedhof
PRIORITY:5
X-MICROSOFT-CDO-IMPORTANCE:1
CLASS:PUBLIC
END:VEVENT
END:VCALENDAR
