BEGIN:VCALENDAR
PRODID:-//kirchenweb.ch gmbh//veranstaltungsausgabe v2.0//DE
VERSION:2.0
METHOD:PUBLISH
BEGIN:VEVENT
DTSTART:20221231T160000Z
DTEND:20221231T170000Z
LOCATION:Kirche\, \,  Buchberg-Rüdlingen
TRANSP:OPAQUE
SEQUENCE:0
UID:124748-veranstaltung@ref-sh.ch
DTSTAMP:20221220T080919Z
DESCRIPTION:"May the road rise to meet you" wird der Gemischte Chor
  Rheinklang singen. "Du bist ein Gott\, der mich sieht"\, die Jahreslosung
  2023\, wird in den Worten verhandelt. Unser Organist Victor Radulescu
  wird verabschiedet. Und wir stossen an auf ein gutes Neues Jahr.\n
 \nKontakt: Beat Frefel\n\nWeitere Infos:
  https://www.ref-sh.ch/veranstaltung/124748
SUMMARY:Silvestergottesdienst
PRIORITY:5
X-MICROSOFT-CDO-IMPORTANCE:1
CLASS:PUBLIC
END:VEVENT
END:VCALENDAR
