BEGIN:VCALENDAR
PRODID:-//kirchenweb.ch gmbh//veranstaltungsausgabe v2.0//DE
VERSION:2.0
METHOD:PUBLISH
BEGIN:VEVENT
DTSTART:20221225T084500Z
DTEND:20221225T094500Z
LOCATION:Kirche\, \,  Buchberg-Rüdlingen
TRANSP:OPAQUE
SEQUENCE:0
UID:124747-veranstaltung@ref-sh.ch
DTSTAMP:20221216T130909Z
DESCRIPTION:Die Weihnachtsbotschaft am Weihnachtsmorgen verbunden mit
  einem fröhlichen "Schöne Weihnachten!" Der Wunsch für uns alle.\n
 \nKontakt: Beat Frefel\n\nWeitere Infos:
  https://www.ref-sh.ch/veranstaltung/124747
SUMMARY:Weihnachtsgottesdienst mit Abendmahl
PRIORITY:5
X-MICROSOFT-CDO-IMPORTANCE:1
CLASS:PUBLIC
END:VEVENT
END:VCALENDAR
