BEGIN:VCALENDAR
PRODID:-//kirchenweb.ch gmbh//veranstaltungsausgabe v2.0//DE
VERSION:2.0
METHOD:PUBLISH
BEGIN:VEVENT
DTSTART:20221224T213000Z
DTEND:20221224T223000Z
LOCATION:Kirche\, \,  Buchberg-Rüdlingen
TRANSP:OPAQUE
SEQUENCE:0
UID:124746-veranstaltung@ref-sh.ch
DTSTAMP:20221216T130802Z
DESCRIPTION:Am späten Abend in die warme Kirche und mit glänzenden Augen
  wieder hinaus - der Zauber der Christnacht.\n\nKontakt: Barbara Erdmann\n
 \nWeitere Infos: https://www.ref-sh.ch/veranstaltung/124746
SUMMARY:Christnacht
PRIORITY:5
X-MICROSOFT-CDO-IMPORTANCE:1
CLASS:PUBLIC
END:VEVENT
END:VCALENDAR
