BEGIN:VCALENDAR
PRODID:-//kirchenweb.ch gmbh//veranstaltungsausgabe v2.0//DE
VERSION:2.0
METHOD:PUBLISH
BEGIN:VEVENT
DTSTART:20221204T084500Z
DTEND:20221204T094500Z
LOCATION:Kirche\, \,  Buchberg-Rüdlingen
TRANSP:OPAQUE
SEQUENCE:0
UID:124744-veranstaltung@ref-sh.ch
DTSTAMP:20221129T134422Z
DESCRIPTION:Anschliessend Kirchgemeindeversammlung\n\nDas Feuer
  veränderte im November 1972 das Leben in unseren beschaulichen Gemeinden
  Buchberg und Rüdlingen\, wühlte viele Gemüter auf und liess neben
  Feuerwehrleuten auch einige Journalisten arbeiten. \n\nNeben den 
  geschichtlichen Ereignissen werden im Gottesdienst Zeitzeugen\, die wir
  eingeladen haben\, von ihren Erlebnissen berichten. Die Laien des
  Kirchenstandes freuen sich diesen Gottesdienst für Sie\, liebe
  Gottesdienstbesuchende\, vorzubereiten.\n\n\nKontakt: Mitglieder des
  Kirchenstands\n\nWeitere Infos:
  https://www.ref-sh.ch/veranstaltung/124744
SUMMARY:Laiengottesdienst
PRIORITY:5
X-MICROSOFT-CDO-IMPORTANCE:1
CLASS:PUBLIC
END:VEVENT
END:VCALENDAR
