BEGIN:VCALENDAR
PRODID:-//kirchenweb.ch gmbh//veranstaltungsausgabe v2.0//DE
VERSION:2.0
METHOD:PUBLISH
BEGIN:VEVENT
DTSTART:20220828T083000Z
DTEND:20220828T093000Z
LOCATION:Kirche\, \,  Buchberg-Rüdlingen
TRANSP:OPAQUE
SEQUENCE:0
UID:124733-veranstaltung@ref-sh.ch
DTSTAMP:20220819T064147Z
DESCRIPTION:Vor dem Fest noch ein Fest: Chilbisunntig\n\nAm ersten
  Septemberwochenende steigt das langersehnte Herbstfest in Buchberg.
  Unsere Kirchgemeinde ist da auch mittendrin und dabei. Eine Woche vorher
  feiern wir den Chilbisunntig mit Familiengottesdienst und Aktivitäten
  rund um die Kirche. Auch langersehnt.\n\n„Sei offen für andere - dann
  wird das Leben bunt und reich“. \n\nDieser Satz fasst das Kinderbuch
  „Das  Vier-Farben-Land“ treffend zusammen. Wie man das wird und was
  man dafür unternehmen kann\, finden wir in diesem Familiengottesdienst
  zusammen mit den Gottesdienstteilnehmenden und dem Rainbowchor heraus.\n
 \nDanach ist wieder Festbetrieb rund um die Kirche: Top Step Parcours\,
  Hüpfburg und ein feines Zmittagessen bei toller Aussicht serviert vom
  Rainbowchor.\n\nKontakt: Barbara Erdmann\, Beat Frefel\n\nWeitere Infos:
  https://www.ref-sh.ch/veranstaltung/124733
SUMMARY:Chilbisunntig
PRIORITY:5
X-MICROSOFT-CDO-IMPORTANCE:1
CLASS:PUBLIC
END:VEVENT
END:VCALENDAR
