BEGIN:VCALENDAR
PRODID:-//kirchenweb.ch gmbh//veranstaltungsausgabe v2.0//DE
VERSION:2.0
METHOD:PUBLISH
BEGIN:VEVENT
DTSTART:20220807T074500Z
DTEND:20220807T084500Z
LOCATION:Kirche\, \,  Buchberg-Rüdlingen
TRANSP:OPAQUE
SEQUENCE:0
UID:124731-veranstaltung@ref-sh.ch
DTSTAMP:20220617T132117Z
DESCRIPTION:Taufe von Dominik Fehr und Patrick Fehr\nAnschliessend
  Chilekaffi\n\nKontakt: Beat Frefel\n\nWeitere Infos:
  https://www.ref-sh.ch/veranstaltung/124731
SUMMARY:Gottesdienst mit Taufen
PRIORITY:5
X-MICROSOFT-CDO-IMPORTANCE:1
CLASS:PUBLIC
END:VEVENT
END:VCALENDAR
