BEGIN:VCALENDAR
PRODID:-//kirchenweb.ch gmbh//veranstaltungsausgabe v2.0//DE
VERSION:2.0
METHOD:PUBLISH
BEGIN:VEVENT
DTSTART:20220731T074500Z
DTEND:20220731T084500Z
LOCATION:Kirche\, \,  Buchberg-Rüdlingen
TRANSP:OPAQUE
SEQUENCE:0
UID:124730-veranstaltung@ref-sh.ch
DTSTAMP:20220706T072922Z
DESCRIPTION:Kirchgemeinde Eglisau zu Besuch.\n\nKontakt: Barbara Erdmann\n
 \nWeitere Infos: https://www.ref-sh.ch/veranstaltung/124730
SUMMARY:Gottesdienst
PRIORITY:5
X-MICROSOFT-CDO-IMPORTANCE:1
CLASS:PUBLIC
END:VEVENT
END:VCALENDAR
