BEGIN:VCALENDAR
PRODID:-//kirchenweb.ch gmbh//veranstaltungsausgabe v2.0//DE
VERSION:2.0
METHOD:PUBLISH
BEGIN:VEVENT
DTSTART:20220724T073000Z
DTEND:20220724T083000Z
LOCATION:Kirche\, \, 8193 Eglisau
TRANSP:OPAQUE
SEQUENCE:0
UID:124729-veranstaltung@ref-sh.ch
DTSTAMP:20210930T081003Z
DESCRIPTION:Kein Gottesdienst bei uns\n\nKontakt: beat.frefel@ref-sh.ch\n
 \nWeitere Infos: https://www.ref-sh.ch/veranstaltung/124729
SUMMARY:Gottesdienst in Eglisau
PRIORITY:5
X-MICROSOFT-CDO-IMPORTANCE:1
CLASS:PUBLIC
END:VEVENT
END:VCALENDAR
