BEGIN:VCALENDAR
PRODID:-//kirchenweb.ch gmbh//veranstaltungsausgabe v2.0//DE
VERSION:2.0
METHOD:PUBLISH
BEGIN:VEVENT
DTSTART:20220717T074500Z
DTEND:20220717T084500Z
LOCATION:Kirche\, \,  Buchberg-Rüdlingen
TRANSP:OPAQUE
SEQUENCE:0
UID:124728-veranstaltung@ref-sh.ch
DTSTAMP:20220617T132035Z
DESCRIPTION:Kontakt: Andreas Weber\, Eglisau\n\nWeitere Infos:
  https://www.ref-sh.ch/veranstaltung/124728
SUMMARY:Kanzeltauschgottesdienst
PRIORITY:5
X-MICROSOFT-CDO-IMPORTANCE:1
CLASS:PUBLIC
END:VEVENT
END:VCALENDAR
