BEGIN:VCALENDAR
PRODID:-//kirchenweb.ch gmbh//veranstaltungsausgabe v2.0//DE
VERSION:2.0
METHOD:PUBLISH
BEGIN:VEVENT
DTSTART:20220417T074500Z
DTEND:20220417T084500Z
LOCATION:Kirche\, \,  Buchberg-Rüdlingen
TRANSP:OPAQUE
SEQUENCE:0
UID:124708-veranstaltung@ref-sh.ch
DTSTAMP:20220412T162513Z
DESCRIPTION:Taufe von Julia Büchi und Kean Hoese\n\n1 Ganz früh am
  Sonntagmorgen\, dem ersten Tag der neuen Woche\, nahmen die Frauen die
  wohlriechenden Öle mit\, die sie zubereitet hatten\, und gingen zum
  Grab. 2 Dort angekommen sahen sie\, dass der Stein\, mit dem man es
  verschlossen hatte\, zur Seite gerollt war. 3 Als sie die Grabkammer
  betraten\, fanden sie den Leichnam von Jesus\, dem Herrn\, nicht.\n
 \n4 Verwundert überlegten sie\, was das alles zu bedeuten hatte.
  Plötzlich traten zwei Männer in glänzend weißen Kleidern zu ihnen.
  5 Die Frauen erschraken und wagten nicht\, die beiden anzusehen. »Warum
  sucht ihr den Lebenden bei den Toten?«\, fragten die Männer. 6 »Er
  ist nicht mehr hier. Er ist auferstanden! Denkt doch daran\, was er euch
  damals in Galiläa gesagt hat: 7 ›Der Menschensohn muss den gottlosen
  Menschen ausgeliefert werden. Sie werden ihn kreuzigen\, aber am dritten
  Tag wird er von den Toten auferstehen.‹« 8 Da erinnerten sich die
  Frauen an diese Worte von Jesus.\n\n9 Sie liefen vom Grab in die Stadt
  zurück\, um den elf Aposteln und den anderen Jüngern zu berichten\, was
  sie erlebt hatten. 10 Zu diesen Frauen gehörten Maria aus Magdala\,
  Johanna\, Maria\, die Mutter von Jakobus\, und noch etliche andere.
 \nLukas-Evangelium 24\,1-10\n\nKontakt: Barbara Erdmann\n\nWeitere Infos:
  https://www.ref-sh.ch/veranstaltung/124708
SUMMARY:Ostergottesdienst mit Abendmahl und Taufe
PRIORITY:5
X-MICROSOFT-CDO-IMPORTANCE:1
CLASS:PUBLIC
END:VEVENT
END:VCALENDAR
