BEGIN:VCALENDAR
PRODID:-//kirchenweb.ch gmbh//veranstaltungsausgabe v2.0//DE
VERSION:2.0
METHOD:PUBLISH
BEGIN:VEVENT
DTSTART:20230101T093500Z
DTEND:20230101T103500Z
LOCATION:Schulhaus Guntmadingen\, Neuengasse 1\, 8223 Guntmadingen
TRANSP:OPAQUE
SEQUENCE:0
UID:124576-veranstaltung@ref-sh.ch
DTSTAMP:20230102T140500Z
DESCRIPTION:Neujahrsgottesdienst mit Pfarrer Lukas P. Huber im Schulhaus
  Guntmadingen zur Jahreslosung 2023: «Du bist ein Gott\, der mich
  sieht.» (1. Mose 16\,13)\n\nAnschliessend Neujahrs-Aperitif.\n\nDer
  Gottesdienst findet https://map.search.ch/Guntmadingen\,Neuengasse-1
  statt.\n\n\nKontakt: Pfr. Lukas P. Huber\n\nWeitere Infos:
  https://www.ref-sh.ch/veranstaltung/124576
SUMMARY:Neujahrs-Gottesdienst
PRIORITY:5
X-MICROSOFT-CDO-IMPORTANCE:1
CLASS:PUBLIC
END:VEVENT
END:VCALENDAR
