BEGIN:VCALENDAR
PRODID:-//kirchenweb.ch gmbh//veranstaltungsausgabe v2.0//DE
VERSION:2.0
METHOD:PUBLISH
BEGIN:VEVENT
DTSTART:20221225T084500Z
DTEND:20221225T094500Z
LOCATION:Kirche Löhningen\, Kloster 3\, 8224 Löhningen
TRANSP:OPAQUE
SEQUENCE:0
UID:124575-veranstaltung@ref-sh.ch
DTSTAMP:20231228T102325Z
DESCRIPTION:Weihnachtsgottesdienst mit Abendmahl; mit Pfarrer Lukas P.
  Huber. Dieses Jahr mit einer Predigt.\n\nKontakt: Pfr. Lukas P. Huber\n
 \nWeitere Infos: https://www.ref-sh.ch/veranstaltung/124575
SUMMARY:Abendmahlsgottesdienst zu Weihnachten
PRIORITY:5
X-MICROSOFT-CDO-IMPORTANCE:1
CLASS:PUBLIC
END:VEVENT
END:VCALENDAR
