BEGIN:VCALENDAR
PRODID:-//kirchenweb.ch gmbh//veranstaltungsausgabe v2.0//DE
VERSION:2.0
METHOD:PUBLISH
BEGIN:VEVENT
DTSTART:20221224T210000Z
DTEND:20221224T220000Z
LOCATION:Kirche Löhningen\, Kloster 3\, 8224 Löhningen
TRANSP:OPAQUE
SEQUENCE:0
UID:124574-veranstaltung@ref-sh.ch
DTSTAMP:20231228T102313Z
DESCRIPTION:Christnachtfeier über die Weihnachtsgeschichte; mit Pfarrer
  Lukas P. Huber.\n\n\nKontakt: Pfr. Lukas P. Huber\n\nWeitere Infos:
  https://www.ref-sh.ch/veranstaltung/124574
SUMMARY:Christnachtfeier
PRIORITY:5
X-MICROSOFT-CDO-IMPORTANCE:1
CLASS:PUBLIC
END:VEVENT
END:VCALENDAR
