BEGIN:VCALENDAR
PRODID:-//kirchenweb.ch gmbh//veranstaltungsausgabe v2.0//DE
VERSION:2.0
METHOD:PUBLISH
BEGIN:VEVENT
DTSTART:20221218T090000Z
DTEND:20221218T100000Z
LOCATION:Kirche Löhningen\, Kloster 3\, 8224 Löhningen
TRANSP:OPAQUE
SEQUENCE:0
UID:124573-veranstaltung@ref-sh.ch
DTSTAMP:20231228T102224Z
DESCRIPTION:Gemeinde-Weihnachtsfeier mit dem Familiengottesdienst-Team
  sowie mit Pfarrer Lukas P. Huber.\n\nEs wird keine Chindehüeti
  angeboten\, aber Eltern können bei Bedarf mit ihren Kindern ins
  Mesmerhuus gehen\, wenn die Kinder unruhig werden.\n\n\nKontakt: Pfr.
  Lukas P. Huber\n\nWeitere Infos:
  https://www.ref-sh.ch/veranstaltung/124573
SUMMARY:Gemeinde-Weihnachtsfeier
PRIORITY:5
X-MICROSOFT-CDO-IMPORTANCE:1
CLASS:PUBLIC
END:VEVENT
END:VCALENDAR
