BEGIN:VCALENDAR
PRODID:-//kirchenweb.ch gmbh//veranstaltungsausgabe v2.0//DE
VERSION:2.0
METHOD:PUBLISH
BEGIN:VEVENT
DTSTART:20221204T160000Z
DTEND:20221204T170000Z
LOCATION:im Dorf Löhningen\, \,
TRANSP:OPAQUE
SEQUENCE:0
UID:124567-veranstaltung@ref-sh.ch
DTSTAMP:20231228T102126Z
DESCRIPTION:Gottesdienst zu den Löhninger Adventsfenstern\, mit
  Ziitfenschter-Team.\n\nBitte warme Kleider und Taschenlampe mitnehmen\,
  wir sind im Dorf unterwegs und singen ab einem Liederblatt\n
 \nAnschliessend «Stubete» vor der Kirche.\n\n\n\nKontakt: Lukas Huber\n
 \nWeitere Infos: https://www.ref-sh.ch/veranstaltung/124567
SUMMARY:Adventsfenster-Gottesdienst mit Ziitfenschter-Team
PRIORITY:5
X-MICROSOFT-CDO-IMPORTANCE:1
CLASS:PUBLIC
END:VEVENT
END:VCALENDAR
