BEGIN:VCALENDAR
PRODID:-//kirchenweb.ch gmbh//veranstaltungsausgabe v2.0//DE
VERSION:2.0
METHOD:PUBLISH
BEGIN:VEVENT
DTSTART:20221207T080000Z
DTEND:20221207T100000Z
LOCATION:Hofmeisterhuus\, Eichenstrasse 37\, 8200 Schaffhausen
TRANSP:OPAQUE
SEQUENCE:0
UID:122538-veranstaltung@ref-sh.ch
DTSTAMP:20221101T122018Z
DESCRIPTION:Zmorgebuffet und Besuch der 2. Klässler mit Lehrerin Katrin
  Werdenberg vom Schulhaus Alpenblick \n\nWir freuen uns auf einen feinen
  und stimmungsvollen Morgen\, zusammen mit Ihnen.\nIhr Vorbereitungsteam
  St.Johann-Münster\n\n\nKontakt: \n\nWeitere Infos:
  https://www.ref-sh.ch/veranstaltung/122538
SUMMARY:Quartierzmorge
PRIORITY:5
X-MICROSOFT-CDO-IMPORTANCE:1
CLASS:PUBLIC
END:VEVENT
END:VCALENDAR
