BEGIN:VCALENDAR
PRODID:-//kirchenweb.ch gmbh//veranstaltungsausgabe v2.0//DE
VERSION:2.0
METHOD:PUBLISH
BEGIN:VEVENT
DTSTART:20221109T110000Z
DTEND:20221109T140000Z
LOCATION:Ochseschüür\, Pfrundhausgasse 3\, 8200 Schaffhausen
TRANSP:OPAQUE
SEQUENCE:0
UID:122535-veranstaltung@ref-sh.ch
DTSTAMP:20221101T121925Z
DESCRIPTION:Im Herbst bei kaltem Wetter\nfallen vom Baum die Blätter\n-
  Donnerwetter\nIm Frühjahr dann\,\nsind sie wieder dran.\nSieh mal an.
 \nHeinz Erhardt\n\nMenü: \nVorspeise: 	Kürbissuppe
 \nHauptgang:	Waadtländer Saucisson	\n	                Lauchkartoffeln
 \nDessert: 	        Apfel im Schlafrock\, Vanillesosse\n\nKosten: 	CHF
  15.00 pro Person. Kinder in Begleitung Erwachsener essen gratis.\n\nWir
  freuen uns auf Sie!\nRolf Banholzer\, Heidi Dolder\, Isabel Keller\,
  Vreni Luginbühl und Ruth Gehring \n\n\nKontakt: \n\nWeitere Infos:
  https://www.ref-sh.ch/veranstaltung/122535
SUMMARY:Mittagstisch für alle
PRIORITY:5
X-MICROSOFT-CDO-IMPORTANCE:1
CLASS:PUBLIC
END:VEVENT
END:VCALENDAR
