BEGIN:VCALENDAR
PRODID:-//kirchenweb.ch gmbh//veranstaltungsausgabe v2.0//DE
VERSION:2.0
METHOD:PUBLISH
BEGIN:VEVENT
DTSTART:20221102T080000Z
DTEND:20221102T100000Z
LOCATION:Hofmeisterhuus\, Eichenstrasse 37\, 8200 Schaffhausen
TRANSP:OPAQUE
SEQUENCE:0
UID:122533-veranstaltung@ref-sh.ch
DTSTAMP:20221025T062118Z
DESCRIPTION:Energiespender Walnuss\n\nSeit rund 20 Jahren kultiviert
  Lokalhistoriker Martin Harzenmoser in Dachsen und in Weissweil
  Nussbäume. Walnüsse sind nicht nur schmackhaft und gesund\, sie stammen
  auch von einem ganz besonderen Baum. Martin Harzenmoser weiss wie
  gewohnt\, anschaulich und humorvoll\, viel über die Geschichte und die
  Verwendung dieser Frucht zu erzählen. Es dürfen verschiedene Sorten
  probiert werden\, Kaffee und ein Stück Nussbrot werden nicht fehlen.  
 \nAnmeldung bis 1. November bei Ruth Gehring: 052 625 15 51 /
  r.gehring@kgvsh.ch\n\n\nKontakt: \n\nWeitere Infos:
  https://www.ref-sh.ch/veranstaltung/122533
SUMMARY:Quartiermorge
PRIORITY:5
X-MICROSOFT-CDO-IMPORTANCE:1
CLASS:PUBLIC
END:VEVENT
END:VCALENDAR
