BEGIN:VCALENDAR
PRODID:-//kirchenweb.ch gmbh//veranstaltungsausgabe v2.0//DE
VERSION:2.0
METHOD:PUBLISH
BEGIN:VEVENT
DTSTART:20221206T083000Z
DTEND:20221206T090000Z
LOCATION:Pfarreisaal Stauffacherstrasse 3\, Stauffacherstrasse 3\,
TRANSP:OPAQUE
SEQUENCE:0
UID:122114-veranstaltung@ref-sh.ch
DTSTAMP:20210518T111120Z
DESCRIPTION:(ökumenischer Kleinkindergottesdienst). Pfrn. Beatrice
  Heieck-Vögelin\, Pfr. Daniel Müller\, Petra Koblet\n\nKontakt: Pfrn.
  Beatrice Heieck\n\nWeitere Infos:
  https://www.ref-sh.ch/veranstaltung/122114
SUMMARY:Fiire mit de Chliine
PRIORITY:5
X-MICROSOFT-CDO-IMPORTANCE:1
CLASS:PUBLIC
END:VEVENT
END:VCALENDAR
