BEGIN:VCALENDAR
PRODID:-//kirchenweb.ch gmbh//veranstaltungsausgabe v2.0//DE
VERSION:2.0
METHOD:PUBLISH
BEGIN:VEVENT
DTSTART:20230521T080000Z
DTEND:20230521T090000Z
LOCATION:Kirche Löhningen\, Kloster 3\, 8224 Löhningen
TRANSP:OPAQUE
SEQUENCE:0
UID:118358-veranstaltung@ref-sh.ch
DTSTAMP:20231227T165904Z
DESCRIPTION:Konfirmationsgottesdienst für und mit Jonas Ernst\, Zora
  Leuenberger\, Mia Schmid\, Mika Straub und Leona Thomann (alle aus
  Löhningen). Mit Pfarrer Lukas P. Huber.\n\nAnschliessend Aperitif im
  Kirchhof.\n\n\nKontakt: Pfr. Lukas P. Huber\n\nWeitere Infos:
  https://www.ref-sh.ch/veranstaltung/118358
SUMMARY:Konfirmationsgottesdienst
PRIORITY:5
X-MICROSOFT-CDO-IMPORTANCE:1
CLASS:PUBLIC
END:VEVENT
END:VCALENDAR
