BEGIN:VCALENDAR
PRODID:-//kirchenweb.ch gmbh//veranstaltungsausgabe v2.0//DE
VERSION:2.0
METHOD:PUBLISH
BEGIN:VEVENT
DTSTART:20230218T123000Z
DTEND:20230218T160000Z
LOCATION:Löhningen\, \,
TRANSP:OPAQUE
SEQUENCE:0
UID:118304-veranstaltung@ref-sh.ch
DTSTAMP:20230216T123916Z
DESCRIPTION:Hallo zeme!\n\nWir verbingen wieder einen spannenden
  Nachmittag zusammen in Löhningen\, wo wir gemeinsam die Bibel näher
  kennenlernen und dabei viel Spass haben.\n\nMitnehmen:
 \n-Wetterentsprechende Kleidung\n-gefüllte Trinkflasche\n-Gute Laune\n
 \nStart:\nGächlingen: 13.00 Buhaltestelle Dorf\, Richtung Siblingen
 \nLöhningen: 13.20 Brunnen Bushaltestelle Dorf\nOberhallau/Guntmadingen:
  Nach Absprache\n\nEnde:\nGächlingen: 16.48 Bushaltestelle Dorf\,
  Richtung Neunkirch\nLöhningen: 16.35 Brunnen Bushaltestelle Dorf
 \nOberhallau/Guntmadingen: Nach Absprache\n\nKontakt: Anja Ryser\n\n
 \nWeitere Infos: https://www.ref-sh.ch/veranstaltung/118304
SUMMARY:Ameisli in Löhningen
PRIORITY:5
X-MICROSOFT-CDO-IMPORTANCE:1
CLASS:PUBLIC
END:VEVENT
END:VCALENDAR
