BEGIN:VCALENDAR
PRODID:-//kirchenweb.ch gmbh//veranstaltungsausgabe v2.0//DE
VERSION:2.0
METHOD:PUBLISH
BEGIN:VEVENT
DTSTART:20210122T183000Z
DTEND:20210122T193000Z
LOCATION:Kirche\, \,  Buchberg-Rüdlingen
TRANSP:OPAQUE
SEQUENCE:0
UID:115682-veranstaltung@ref-sh.ch
DTSTAMP:20201214T171416Z
DESCRIPTION:Aufgrund der Pandemiemassnahmen des Bundesrates vom 11.12.2020
  muss das Wochentagskino abgesagt werden.\n\nFilm (CH 2018) nach dem
  Bestseller „Wolkenbruchs wunderliche Reise in die Arme einer
  Schickse“ von Thomas Meyer. Eintritt frei.\n\nBislang hat Motti
  Wolkenbruch immer brav getan\, was seine jüdisch orthodoxe Mame ihm
  vorschreibt. Als die Mame ihn verkuppeln will und lauter junge Frauen
  einlädt\, die er heiraten soll\, weicht Motti von dem traditionellen
  Pfad ab. Er verliebt sich an der Uni in die schöne Nichtjüdin Laura.
  Seine Mame ist ausser sich. Die Liebe zu einer Schickse ist im Lebensplan
  von Motti nicht vorgesehen. Nun beginnt Motti mutig seine wunderliche
  Reise zur Selbstbestimmung\, die mit Herzschmerz aber auch grossem Humor
  verbunden ist.\n\n\nKontakt: Beat Frefel\n\nWeitere Infos:
  https://www.ref-sh.ch/veranstaltung/115682
SUMMARY:Abgesagt WochentagsKino
PRIORITY:5
X-MICROSOFT-CDO-IMPORTANCE:1
CLASS:PUBLIC
END:VEVENT
END:VCALENDAR
