BEGIN:VCALENDAR
PRODID:-//kirchenweb.ch gmbh//veranstaltungsausgabe v2.0//DE
VERSION:2.0
METHOD:PUBLISH
BEGIN:VEVENT
DTSTART:20201112T183000Z
DTEND:20201112T193000Z
LOCATION:Kirche\, \,  Buchberg-Rüdlingen
TRANSP:OPAQUE
SEQUENCE:0
UID:113029-veranstaltung@ref-sh.ch
DTSTAMP:20201112T110355Z
DESCRIPTION:Die Hütte: Ein Wochenende mit Gott\nUSA 2017\, mit  Sam
  Worthington\, Octavia Spencer u.a.\n\nWährend eines Campingausflugs mit
  der ganzen Familie verschwindet die kleine Missy spurlos. Ihr
  verzweifelter Vater Mack hinterfragt daraufhin alles\, woran er bisher
  glaubte. Ein mysteriöser Brief führt ihn Jahre nach dem Unglück
  zurück an den Ort des Geschehens\, eine Hütte mitten im Wald. Dort
  trifft er drei Fremde\, die ihn mit auf eine Reise nehmen\, die sein
  Leben für immer verändert.\n\nFilm freigegeben ab 12 Jahren. Eintritt
  frei.\n\n\nWochentagsKino\nWenn die Winterzeit Einzug hält\, lässt sich
  wieder gut Kino machen - erst recht in unserer Kirche!\nSei einiger Zeit
  steht in unserer Kirche ein fix installierter Beamer\, der stehende und
  bewegte Bilder auf die Leinwand vorne projiziert. Seit diesem Frühling
  dürfen wir auch auf eine gute Tonanlage zurückgreifen. So ist nicht nur
  das Bild\, sondern auch der Ton ein Genuss.\n\nMit unserer jugendlichen
  Kinogruppe haben wir bereits drei Winter jeweils am Samstag Filme
  gezeigt. Nun möchten wir das Angebot ausweiten und auch unter der Woche
  und an unterschiedlichen Wochentagen spannende und herausfordernde Filme
  für Erwachsene zeigen.\n\nKontakt: Beat Frefel\n\nWeitere Infos:
  https://www.ref-sh.ch/veranstaltung/113029
SUMMARY:WochentagsKino
PRIORITY:5
X-MICROSOFT-CDO-IMPORTANCE:1
CLASS:PUBLIC
END:VEVENT
END:VCALENDAR
