BEGIN:VCALENDAR
PRODID:-//kirchenweb.ch gmbh//veranstaltungsausgabe v2.0//DE
VERSION:2.0
METHOD:PUBLISH
BEGIN:VEVENT
DTSTART:20210101T090000Z
DTEND:20210101T100000Z
LOCATION:Kirche Herblingen\, Chileweg\, 8207 Schaffhausen Herblingen
TRANSP:OPAQUE
SEQUENCE:0
UID:105746-veranstaltung@ref-sh.ch
DTSTAMP:20210128T092042Z
DESCRIPTION:musikalischer Gottesdienst mit Peter Vogelsanger (Liturgie und
  Sax)\, Maya Lüscher (Orgel und Digitalpiano) und weiteren MusikerInnen\n
 \nKontakt: Pfr. Peter Vogelsanger\n\nWeitere Infos:
  https://www.ref-sh.ch/veranstaltung/105746
SUMMARY:Jazz-Gottesdienst: „Tut um Gott´s Willen etwas Tapferes“
PRIORITY:5
X-MICROSOFT-CDO-IMPORTANCE:1
CLASS:PUBLIC
END:VEVENT
END:VCALENDAR
